Workbook
Name TABLA: 'Calculo nec'!$C$4:$D$28

Sheet definiciones
C2: PROBABILIDAD DE OCURRENCIA DEL RIESGO (P) | G2: IMPACTO QUE GENERA EL RIESGO (I) | M2: SEVERIDAD DEL RIESGO = P X I | S2: Nivel de eficacia del control del riesgo (NEC) | Z2: nivel clasificación del riesgo (NCR) | AD2: Indicador de Exposición al Riesgo | AE2: Valor | AF2: Indicador de Exposición al Riesgo
C3: Probabilidad de Ocurrencia | D3: Descripción Posibilidad de Ocurrencia | E3: Valor | G3: Impacto | H3: Descripción de impacto | I3: Valor | M3: Severidad | N3: Color | O3: Descripción de severidad | P3: SEVERIDAD = P X I | Q3: Nivel clasificación del riesgo (NCR) | S3: Control | T3: Efectividad | U3: Descripción | X3: nivel de eficacia del control (NEC) | Z3: tolerable (1) | AA3: moderado (2) | AB3: critico (3) | AD3: IER = NCR / NEC | AE3: >= 1 | AF3: No aceptable (Na) | AG3: Medidas de control no han sido efectivas: Se mantienen el riesgo dealgunas de estás condiciones: suspensión o perdida de la calidad de agente de aduanas, Gastos asociados que generan perdidas en los resultados anuales de la compañia; Perdida significativa de reputación en el mercado y gremio; Perdida del clientes y acciones judiciales de embergadura; - Acciones penales sobre el agente de aduana.
C4: Esperado | D4: Riesgo cuya probabilidad de ocurrencia es muy alta, es decir, un alto grado de incidentes en un período anual (91% a 100%). | E4: 1 | G4: Significativo | H4: La cadena de suministros es vulnerada con un efecto catastrófico: - Suspensión o perdida de la calidad de agente de aduanas - Gastos asociados que generan perdidas en los resultados anuales de la compañia. - Perdida significativa de reputación en el mercado y gremio - Perdida del clientes y acciones judiciales de embergadura. - Acciones penales sobre el agente de aduana | I4: 5 | M4: RIESGO TOLERABLE | O4: Riesgos que pueden detener por algunas horas las operaciones de gestión aduanera; situaciones que requieran generar reprocesos, atender reclamos de clientes que no ponen en riesgo la continuidad del servicio; costos operacionales adicionales que no ponen en riesgo la rentabilidad del servicio. | P4: 1-6 | Q4: 1 | S4: Deficiente | T4: 1 | U4: No hay control para reesponder al riesgo | X4: Deficiente | Y4: 1 | Z4: =1/Y4 -> 1 | AA4: =2/Y4 -> 2 | AB4: =3/Y4 -> 3 | AE4: 0,6 - 0,9 | AF4: Medio (Me) | AG4: Medidas de control no aseguran el 100% de efectividad, se generan situaciones que requieren medidas adicionales para que el riesgo y sus impactos no se manifiesten de manera recurrente.
C5: Muy Probable | D5: Riesgo cuya probabilidad de ocurrencia de incidentes es alta, es decir, entre 61% y 90% que éste se presente en el período de un año. | E5: 2 | G5: Alto | H5: La cadena de suministros es vulnerada significativamente El evento tendrá efectos considerables para la Compañía. - Gastos por sobre $ 3.000.000; - Caídas a piso de las mercancias - Se identifican actos delictuales y/o judiciales - No se puede cumplir con fecha de entrega de la carga. | I5: 4 | M5: RIESGO MODERADO | O5: Riesgos que puden detener por menos de un día las operaciones de gestión aduanera; daños significatiivos no permanentes a la salud de personas relacionadas, acciones que requieren pagar multas, seguros, pagos que no impactan el equilibrio financiero de la agencia | P5: 7-9 | Q5: 2 | S5: Regular | T5: 2 | U5: Nivel de control existe pero no es efectivo | X5: Regular | Y5: 2 | Z5: =1/Y5 -> 0.5 | AA5: =2/Y5 -> 1 | AB5: =3/Y5 -> 1.5 | AE5: 0.2 - 0,5 | AF5: Menor (Mr) | AG5: medias de control se identifican como efectivas y no se generan impactos asociados al riesgo. Las medidas de control se mantienen.
C6: Probable | D6: Riesgo cuya probabilidad de incidentes es media, es decir, entre 31% a 60% de ocurrencia en el período de un año. | E6: 3 | G6: Moderado | H6: La cadena de suministros será vulnerada con efectos de envergadura moderada: - Gastos en el rango < $1.000.000 - multas aduaneras por responsabilidad de la agencia - Reproceso de actividades y/o operaciones - El cliente es involucrado en el incidente y debe realizar acciones de reproceso. | I6: 3 | M6: RIESGO CRITICO O CATASTROFICO | O6: Riesgo que puede detener por varios días o de forma permanente las actividades de la agencia, cierre parcial o total; Pedida de mas de un cliente; acciones judiciales y reglamentarias que ponen en riesgo la condicipon de agente de aduanas y la reputación y funcionamiento de la agencia, perdida económica considerable que pone en riesgo la estabilidad financiera. daños físicos considerables incluyendo el fallecimiento de personas relacionadas y/o daños a la infraestructura que no permiten la continuidad en el mediano plazo de las operaciones; daños medioambientales irreversibles o de alto impacto social. | P6: 10-25 | Q6: 3 | S6: Efectivo | T6: 3 | U6: Nivel de control es efectivo | X6: Efectivo | Y6: 3 | Z6: =1/Y6 -> 0.33333333 | AA6: =2/Y6 -> 0.66666667 | AB6: =3/Y6 -> 1
C7: No probable | D7: Riesgo cuya probabilidad de incidentes es baja, es decir, entre 10% a 30% de seguridad que éste se presente. | E7: 4 | G7: Bajo | H7: La cadena de suministros será vulnerada con efectos de menor envergadura que pueden ser asumidos sin mayores problemas por las áreas no hay cambio de fecha para embarque/desembarque); gastos menores a 1.000.000. | I7: 2
C8: No Esperado | D8: Riesgo cuya probabilidad de ocurrencia es muy baja, es decir, entre 1% y 9% de incidentes en el período de un año. | E8: 5 | G8: Limitado | H8: La cadena de suministros no es afectada, no implica desembolsos, no afecta directamente al cliente, solo adecuaciones o correcciones internas. | I8: 1
D12: TIPOS DE RIESGOS | E12: NOMENCLATURA CÓDIGO
D13: seguridad del personal cumplimiento aduanero seguridad de la información integridad y acceso a las mercancias seguridad a las instalaciones seguridad a los socios comerciales educación,formación y capacitación | E13: CC-nn, donde: CC = Área/proceso nn= correlativo secuencial CC= CM= casa matriz T= toda la empresa I= Importaciones E=Exportaciones TI=Técnologia de la infomación A=Archivo

Sheet diagrama de flujo
H18: Indicador de Exposición al Riesgo | I18: Valor | J18: Indicador de Exposición al Riesgo
H19: IER = NCR / NEC | I19: >= 1 | J19: No aceptable (Na)
I20: 0,6 - 0,9 | J20: Medio (Me)
I21: 0.2 - 0,5 | J21: Menor (Mr)
A23: Nota: La evaluación y gestión de riesgos en esta matriz, se efectúa mediante el uso de dos hojas: "matriz de riegos" y "medidas de control". Ello, debido a cada riesgo (al que se le asigna un código en "matriz de riesgos" ) puede tener una o más medidas de control asignadas para su tratamiento por lo que se hace necesario separarlas en hojas diferentes.

Sheet Matriz de Riesgos
D3: MATRIZ DE RIESGOS DE SEGURIDAD OEA
A4: Nª | B4: Tipo de Riesgo | C4: Código | D4: Proceso/área | E4: Actividad | F4: Riesgo | G4: Descripción del Riesgo | H4: Agente(es) afectad(os) | I4: Impactos del riesgo | J4: Probabilidad Ocurrencia | K4: Impacto del Riesgo | L4: NIVEL DE SEVERIDAD = (P X I)
A5: 1 | B5: seguridad del personal | C5: CM-01 | D5: casa matriz | E5: acceso a instalaciones (oficina Santiago y sucursales) | F5: persona ajena a la empresa ingresa al interior de manera furtiva | G5: un acceso no controlado de personas puede generar daños a la infraestructura, o constituir un delito | H5: B-54 A-31 | I5: perdida de activos, perjuicio a las personas y/o infraestructura | J5: 3 | K5: 4 | L5: =J5*K5 -> 12
A6: 2 | B6: seguridad a las instalaciones | C6: CM-02 | D6: casa matriz | E6: actividades diarias | F6: asalto | G6: ingreso forzado de delincuentes a la oficina, acciones violentas sobre las personas y mobiliario | H6: B-54 A-31 | I6: daño físico al personal, destrucción de mobiliario, sustracción de bienes personales y de la emrpesa. | J6: 2 | K6: 5 | L6: =J6*K6 -> 10
A7: 3 | B7: seguridad a las instalaciones | C7: CM-03 | D7: casa matriz | E7: actividades diarias | F7: robo, hurto | G7: personal interno o externo extrae objetos personales y/o de la empresa | H7: B-54 A-31 | I7: perdida de bienes de personas o de la empresa que generan inseguridad y desconfianza | J7: 2 | K7: 4 | L7: =J7*K7 -> 8
A8: 4 | B8: seguridad de la información | C8: CM-04 | D8: casa matriz | E8: actividades diarias | F8: personas de confianza entregan información confidencial y/o estratégica a terceros | G8: personal de la empresa y/o personas de confianza filtran de información confidencial a la competencia o a terceros | H8: B-54 A-31 | I8: firtración de información (por ejemplo tarifas, inversiones, desiciones o acciones estratégicas) ponen en riesgo la governanza y/o estabilidad de la empresa | J8: 3 | K8: 5 | L8: =J8*K8 -> 15
A9: 5 | B9: seguridad de la información | C9: CM-05 | D9: casa matriz | E9: Utilización de sistemas informaticos críticos | F9: personal utiliza su posición ventajosa y trabaja para otras agencias en una misma función | G9: personal contratado realiza similares funciones para otros agentes en horarios de trabajo y con recursos de la agencia | H9: B-54 A-31 | I9: baja de productividad, mal uso de recursos, desconfianza | J9: 3 | K9: 3 | L9: =J9*K9 -> 9
A10: 6 | B10: seguridad de la información | C10: CM-06 | D10: casa matriz | E10: Utilización de sistemas informaticos críticos | F10: Hackeo de sitios web y/o de los sistemas informaticos | G10: Externos acceden a los sistemas (redes, bases de datos, aplicaciones informáticas) | H10: B-54 A-31 | I10: perdida de información, problemas de acceso a sistemas y aplicaciones | J10: 4 | K10: 5 | L10: =J10*K10 -> 20
A11: 7 | B11: cumplimiento duanero | C11: CM-07 | D11: casa matriz | E11: custodia de carpetas | F11: pérdida de documentos originales y/o carpetas completas | G11: falta de control y ordenamiento de carpetas generan extravios o perdidas. | H11: B-54 A-31 | I11: Demora de procesos operacionales, impacto negativo con los clientes por solicitud de copias y otras negatividades | J11: 3 | K11: 1 | L11: =J11*K11 -> 3
A12: 8 | B12: seguridad a los socios comerciales | C12: CM-08 | D12: comercial | E12: traslado de valijas | F12: pérdida parcial o total de contenido de valijas | G12: empresa externa realiza traslado de valijas y no tenemos control durante el proceso. | H12: B-54 A-31 | I12: Perdida de documentos atrasa el ingreso/salida de carga. | J12: 3 | K12: 4 | L12: =J12*K12 -> 12
A13: 9 | B13: cumplimiento duanero | C13: CM-09 | D13: sucursal | E13: Aforo físico | F13: rechazo de documentos presentados | G13: control de aduana determina que documentos base no corresponden a lo declarado | H13: B-54 A-31 | I13: falta grave, puede generar denuncia atraso en la salida de mercaderia; puede generar retención de la carga; Pagos adicionales de almacenaje. Puede generar anotacion en hoja de vida del agente. | J13: 3 | K13: 5 | L13: =J13*K13 -> 15
A14: 10 | B14: cumplimiento duanero | C14: CM-10 | D14: sucursal | E14: Aforo documental | F14: rechazo de documentos presentados | G14: control de aduana determina que documentos base no corresponden a lo declarado | H14: B-54 A-31 | I14: falta grave, puede generar multas; Mercancia puede ser requizada ; Puede generar anotacion en hoja de vida del agente. | J14: 3 | K14: 5 | L14: =J14*K14 -> 15
A15: 11 | B15: cumplimiento duanero | C15: CM-11 | D15: sucursal | E15: zona primaria | F15: Ingreso a zona primaria con documentación de despachos erroneas | G15: Control de aduana verifica cuadre de contenidos documentales declaradas | H15: B-54 A-31 | I15: se rechaza acceso a zona primaria, genera infracción | J15: 3 | K15: 5 | L15: =J15*K15 -> 15
A16: 12 | B16: cumplimiento duanero | C16: CM-12 | D16: sucursal | E16: zona primaria | F16: Ingreso a zona primaria sin los sellos correspondientes | G16: manipulación de sellos | H16: B-54 A-31 | I16: retención de marcancia; seguros comprometidos; puede constituir delito | J16: 2 | K16: 5 | L16: =J16*K16 -> 10
... A29: 25 | B29: cumplimiento aduanero | C29: CM-24 | D29: casa matriz | E29: Actividad aduanera | F29: MULTAS/INFRACCIONES POR INCUMPLIMIENTO . | G29: INCUMPLIMIENTO ARTICULO 168 | H29: B-54 A-31 | I29: MULTAS Y POSIBLES DELITOS DE CONTRABANDO | J29: 4 | K29: 4 | L29: =J29*K29 -> 16
L30: =J30*K30 -> 0
C42: =C45+'Matriz de Riesgos'!L5=VLOOKUP(B42,TABLA,2,FALSE) -> #N/A | G42: MATRIZ FRANCISCO PARDO
G44: DEBEMOS MODIFICAR LA COLUMNA DE PROCESO/AREA.
G45: AGREGAR LOS RIESGOS DE FRANCISCO, ALVARO ME VA A ENVIAR LAS MULTAS DE FCO PARA TRABAJAR EN LA MATRIZ DE FCO.
G47: MATRIZ PROVEEDORES
G48: EN RELACION AL RIESGO QUE TENEMOS CON LOS PROVEEDORES . POR LA TARDANZA EN LLEGAR CON LAS MERCADERIAS
B49: RIESGO AGENCIA | G49: RETRASO EN RECOGER LAS MERCADERIAS EN CADA PUERTO.
G50: RETRASO EN EMISION DE DOCUMENTOS , GUIAS, FACTURAS, NOTAS DE CREDITO.
B51: tardanza o extravio de documentos para facturar al cliente. INCUMPLIMIENTO.
G52: RELACION REAL DE SOCIEDAD EN LA AGENCIA
G53: RELACION COMERCIAL ENTRE CONSULTORES Y LA EMPRESA, ELADIO , HUTGSON, YO

Sheet Calculo nec
C4: 1 | D4: 1
C5: 2 | D5: 1
C6: 3 | D6: 1
C7: 4 | D7: 1
C8: 5 | D8: 1
C9: 6 | D9: 1
C10: 7 | D10: 2
C11: 8 | D11: 2
C12: 9 | D12: 2
C13: 10 | D13: 3
C14: 11 | D14: 3
C15: 12 | D15: 3
... C28: 25 | D28: 3

Sheet medidas de control
A1: código riesgo | B1: NIVEL SEVERIDAD | C1: NCR | D1: medidas de control | E1: NEC | F1: IER = (NCR/NEC) | G1: tareas asignadas | H1: responsable | I1: fecha de inicio tareas | J1: fecha de termino tareas | K1: revisión de la eficacia medidas de control | L1: período Rev. Eficacia medidas de control | M1: EVIDENCIA DE Rev. Eficacia | N1: persona que verifica la eficacia
A2: CM-01 | B2: =VLOOKUP(A2,'Matriz de Riesgos'!C:L,10,FALSE) -> 12 | C2: =VLOOKUP(B2,'Calculo nec'!C4:D28,2,FALSE) -> 3 | D2: 1) control de ingreso a visitas, solicitar C.I y dejar registro | E2: 2 | F2: =C2/E2 -> 1.5 | G2: 1) solicitar C.I escanearlo 2) preguntar a quien visita 3) persona ingresa acompañado 4) al ingresar se le entrega una tarjeta que lo identifica como"visita". 5) visitado acompaña en todo momento a la visita y lo deja en la puerta de salida 6) se recupera tarjeta de visita y se registra salida. | H2: Recepcionista | I2: 43905 | J2: permanente | K2: Control mensual de visitas registradas y revisión de situaciones generadas en el período | L2: semestralmente | M2: registros de control de visitas, RUT escaneados | N2: Gerente Adm.
A3: CM-01 | B3: =VLOOKUP(A3,'Matriz de Riesgos'!C:L,10,FALSE) -> 12 | C3: =VLOOKUP(B3,'Calculo nec'!C5:D29,2,FALSE) -> 3 | D3: 2) Instalación de camaras de vigilancia | E3: 2 | F3: =C3/E3 -> 1.5 | G3: 1) instalación de camaras en ingreso y lugares estratégicos | H3: Controller | I3: 43951 | J3: Una vez | K3: verificación de la instalación | L3: mensualmente | M3: camaras instaladas y operativas; | N3: Gerente Adm.
A4: CM-01 | B4: =VLOOKUP(A4,'Matriz de Riesgos'!C:L,10,FALSE) -> 12 | C4: =VLOOKUP(B4,'Calculo nec'!C6:D30,2,FALSE) -> 3 | D4: 3) Control de acceso por camaras | E4: 3 | F4: =C4/E4 -> 1 | G4: 2) respaldo semanal de registro de videos | H4: Controller | I4: 43951 | J4: permanente | K4: Registro de respaldo mensual de grabaciones | L4: mensualmente | M4: revisión de registros de videos. | N4: Gerente Adm.
A5: CM-02 | B5: =VLOOKUP(A5,'Matriz de Riesgos'!C:L,10,FALSE) -> 10 | C5: =VLOOKUP(B5,'Calculo nec'!C7:D31,2,FALSE) -> 3 | D5: 1) protocolo de ingreso coordinado con administración de edificio | E5: 2 | F5: =C5/E5 -> 1.5 | G5: 1)Creación de protocolo conjunto 2)Difusión de protocolo 3)Simulacro de verificación | H5: Controller | I5: 43966 | J5: permanente | K5: Revision de los registros de ingreso y salida del edificio | L5: mensualmente | M5: registros de entrada y salida | N5: controller
A6: CM-02 | B6: =VLOOKUP(A6,'Matriz de Riesgos'!C:L,10,FALSE) -> 10 | C6: =VLOOKUP(B6,'Calculo nec'!C8:D32,2,FALSE) -> 3 | D6: 2) Sistema de Alarma | E6: 3 | F6: =C6/E6 -> 1 | G6: 1) implementar protocolo de auxilio a administracion del edificio y a carabineros | H6: Controller | I6: 43981 | J6: permanente | K6: simulacro de aplicación protocolo de auxilio | L6: trimestramente | M6: resultado del simulacro | N6: controller
A7: CM-03 | B7: =VLOOKUP(A7,'Matriz de Riesgos'!C:L,10,FALSE) -> 8 | C7: =VLOOKUP(B7,TABLA,2,FALSE) -> 2 | D7: investigar registros de camaras y control de acceso de personas para identificar al autor | E7: 2 | F7: =C7/E7 -> 1 | G7: 1) identificar autor(res) 2) evaluar realizar denuncia 3) si es personal interno proceder a desvinculación 4) revisar y evaluar controles vulnerados | H7: Controller | I7: 43981 | J7: permanente | K7: Revisión de cumplimiento de medidas tomadas de acuerdo a gravedad del caso | L7: permanente | M7: registros de hitos y cumplimientos de plan de acción | N7: controller
A8: CM-04 | B8: =VLOOKUP(A8,'[1]Matriz de Riesgos'!C:L,10,FALSE) -> 15 | C8: =VLOOKUP(B8,TABLA,2,FALSE) -> 3 | D8: 1.- Segregación de funciones a través de perfiles en sistema SIGAD, según lo establece el Procedimiento de Control de Acceso. | E8: 1 | F8: =C8/E8 -> 3 | G8: Al ingreso de un nuevo colaborador a la Agencia, el encargado (a) de RRHH solicita la creación de una cuenta de usuario y define el perfil que se le asignará en el sistema SIGAD. | H8: Encargada (o) RRHH | J8: permanente | K8: Verificar que los usuarios que acceden al sistema SIGAD tengan asignados perfiles que permitan segregar funciones. | L8: Trimestral | M8: Correo electrónico informando al Gerente General el resultado de la revisión. | N8: Encargado de Seguridad de la Información.
A9: CM-04 | B9: =VLOOKUP(A9,'[1]Matriz de Riesgos'!C:L,10,FALSE) -> 15 | C9: =VLOOKUP(B9,TABLA,2,FALSE) -> 3 | D9: 2.- Control de acceso a las carpetas físicas. | E9: 2 | F9: =C9/E9 -> 1.5 | G9: Gestionar el almacenamiento, préstamo y devolución de carpetas. | H9: Encargado de archivo | J9: permanente | K9: En base al registro del sistema de carpetas, obtener una muestra de carpetas con su ubicación y quién la tiene asginada, luego verificar donde se encuentran y quién la tiene bajo su custodia, determinando si esto se corresponde con lo registrado en el sistema. | L9: mensualmente | M9: Correo electrónico informando al Gerente General el resultado de la revisión. | N9: Encargado de Seguridad de la Información.
A10: CM-04 | B10: =VLOOKUP(A10,'[1]Matriz de Riesgos'!C:L,10,FALSE) -> 15 | C10: =VLOOKUP(B10,TABLA,2,FALSE) -> 3 | D10: 3.- Firma de acuerdo de confidencialidad. | E10: 1 | F10: =C10/E10 -> 3 | G10: Al momento de ingreso de un nuevo colaborador, el encargado (a) de RRHH le informará sobre el acuerdo de confidencialidad, el cual el nuevo colaborador debe leer y firmar en señal de aceptación. | H10: Encargada (o) RRHH | J10: permanente | K10: Verificar que al ingresar un nuevo colaborador haya firmado el acuerdo de confidencialidad. | L10: Trimestral | M10: Correo electrónico informando al Gerente General el resultado de la revisión. | N10: Encargado de Seguridad de la Información.
A11: CM-05 | B11: =VLOOKUP(A11,'[1]Matriz de Riesgos'!C:L,10,FALSE) -> 9 | C11: =VLOOKUP(B11,TABLA,2,FALSE) -> 2 | D11: 1.- Segregación de funciones a través de perfiles en sistema SIGAD, según lo establece el Procedimiento de Control de Acceso. | E11: 1 | F11: =C11/E11 -> 2 | G11: Al ingreso de un nuevo colaborador a la Agencia, el encargado (a) de RRHH solicita la creación de una cuenta de usuario y define el perfil que se le asignará en el sistema. | H11: Encargada (o) RRHH | J11: permanente | K11: Verificar que las usuarios que acceden al sistema SIGAD tienen asignados perfiles que permiten segregar funciones. | L11: Trimestral | M11: Correo electrónico informando al Gerente General el resultado de la revisión. | N11: Encargado de Seguridad de la Información.
A12: CM-05 | B12: =VLOOKUP(A12,'[1]Matriz de Riesgos'!C:L,10,FALSE) -> 9 | C12: =VLOOKUP(B12,TABLA,2,FALSE) -> 2 | D12: 2.- Firma de acuerdo de confidencialidad. | E12: 1 | F12: =C12/E12 -> 2 | G12: Al momento de ingreso de un nuevo colaborador, el encargado (a) de RRHH le informará sobre el acuerdo de confidencialidad, el cual el nuevo colaborador debe leer y firmar en señal de aceptación. | H12: Encargada (o) RRHH | J12: permanente | K12: Verificar que al ingresar un nuevo colaborador haya firmado el acuerdo de confidencialidad. | L12: Trimestral | M12: Correo electrónico informando al Gerente General el resultado de la revisión. | N12: Encargado de Seguridad de la Información.
A13: CM-05 | B13: =VLOOKUP(A13,'[1]Matriz de Riesgos'!C:L,10,FALSE) -> 9 | C13: =VLOOKUP(B13,TABLA,2,FALSE) -> 2 | D13: 3.- Monitoreo de URL de conexión a SIGAD. | E13: 1 | F13: =C13/E13 -> 2 | G13: 1.- Obtener los registros de navegación por internet de los usuarios de la Agencia. 2.- Verificar si existen conexiones a URL del proveedor Editrade distintas a https://franciscopardosociedad.editrade.cl 3.- De existir el tipo de conexiones mencionadas en punto anterior, se debe indagar acerca de su uso y comunicar a RRHH este hallazgo, de lo contrario informar que no hubieron hallazgos. | H13: Encargado de Seguridad de la Información. | J13: permanente | K13: Solicitar al encargado de Seguridad de la Información los registros de la revisión del mes: 1.- Registros de navegación de usuarios. 2.- Correo con aviso de existencia o no de hallazgo de conexiones sospechosas. | L13: mensualmente | M13: Correo electrónico informando al Gerente General el resultado de la revisión. | N13: Controller
A14: CM-06 | B14: =VLOOKUP(A14,'[1]Matriz de Riesgos'!C:L,10,FALSE) -> 20 | C14: =VLOOKUP(B14,TABLA,2,FALSE) -> 3 | D14: 1.- Control de acceso en la red interna a través de Active Directory, VPN y Firewall. | E14: 1 | F14: =C14/E14 -> 3 | G14: Implementar mecanismos de control de acceso en la red interna, a través Active Directory, VPN y Firewall. | H14: Encargado de Informática | J14: Una vez | K14: Verificar que se hayan implementado los mecanismos de control de acceso. | L14: anual | M14: Correo electrónico informando al Gerente General el resultado de la revisión. | N14: Encargado de Seguridad de la Información.
A15: CM-06 | B15: =VLOOKUP(A15,'[1]Matriz de Riesgos'!C:L,10,FALSE) -> 20 | C15: =VLOOKUP(B15,TABLA,2,FALSE) -> 3 | D15: 2.- Active Directory, VPN y Firewall tienen configuradas las definiciones establecidas en el Procedimiento de Control de Acceso. | E15: 1 | F15: =C15/E15 -> 3 | G15: Implementar en Active Directory, VPN y Firewall las definiciones establecidas en el Procedimiento de Control de Acceso. | H15: Encargado de Informática | J15: permanente | K15: Verificar que en Active Directory, VPN y Firewall se hayan implementado las definiciones establecidas el Procedimiento de Control de Acceso. | L15: anual | M15: Correo electrónico informando al Gerente General el resultado de la revisión. | N15: Encargado de Seguridad de la Información.
A16: CM-06 | B16: =VLOOKUP(A16,'[1]Matriz de Riesgos'!C:L,10,FALSE) -> 20 | C16: =VLOOKUP(B16,TABLA,2,FALSE) -> 3 | D16: 3.- Uso adecuado de los dispositivos y medios del entorno de trabajo, según lo establece el Procedimiento de Puesto de Trabajo. | E16: 1 | F16: =C16/E16 -> 3 | G16: Informar a los colaboradores sobre las medidas de seguridad establecidas en el Procedimiento de Puesto de Trabajo. | H16: Encargada (o) RRHH | J16: permanente | K16: Verificar que se los colaboradores hayan sido informados sobre el Procedimiento de Puesto de Trabajo. | L16: Trimestral | M16: Correo electrónico informando al Gerente General el resultado de la revisión. | N16: Encargado de Seguridad de la Información.
A17: CM-06 | B17: =VLOOKUP(A17,'[1]Matriz de Riesgos'!C:L,10,FALSE) -> 20 | C17: =VLOOKUP(B17,TABLA,2,FALSE) -> 3 | D17: 4.- Uso adecuado de los dispositivos y medios del entorno de trabajo, según lo establece el Procedimiento de Puesto de Trabajo. | E17: 1 | F17: =C17/E17 -> 3 | G17: Implementar medidas de seguridad establecidas en el Procedimiento de Puesto de Trabajo. | H17: Encargado de Informática | J17: permanente | K17: Verificar que se hayan implementado las definiciones establecidas el Procedimiento de Puesto de Trabajo. | L17: Semestral | M17: Correo electrónico informando al Gerente General el resultado de la revisión. | N17: Encargado de Seguridad de la Información.
A18: CM-07 | B18: =VLOOKUP(A18,'Matriz de Riesgos'!C:L,10,FALSE) -> 3 | C18: =VLOOKUP(B18,TABLA,2,FALSE) -> 1 | D18: 1- la carpeta para aforo fisico, tendra que ser revisada 3 veces antes de la presentacion a la aduana, primera revisión ejecutivo, segunda revisión el jefe del departamento técnico, tercera revisión el encargado de la sucursal en la cual se solicita el aforo fisico, para retirar la mercaderia | E18: 1 | F18: =C18/E18 -> 1 | G18: 1) cada carpeta para aforo fisico, debe llevar la firma de las 3 personas que revisaran la carpeta, si falta algun documento, se debe completar antes de la presentacion a la Aduana | H18: jefe departamento tecnico | I18: 43981 | J18: permanente | K18: se llevara un registro de las carpetas que se fueron al aforo fisico, para saber si existe alguna sancion o medida por parte de la Aduana. El encargado de la sucursal debe informar si esta todo bien y si pudieron despachar la mercaderia | L18: diario | M18: revisión de multas y amonestaciones de la aduana | N18: gerente departamento tecnico
A19: CM-07 | B19: =VLOOKUP(A19,'Matriz de Riesgos'!C:L,10,FALSE) -> 3 | C19: =VLOOKUP(B19,TABLA,2,FALSE) -> 1 | D19: 1- la carpeta para aforo documental, tendra que ser revisada 3 veces antes de la presentacion a la aduana, primera revision ejecutivo, segunda revision jefe del departamento tecnico, tercera revision el encargado de la sucursal en la cual se solicita el aforo documental | E19: 1 | F19: =C19/E19 -> 1 | G19: 1) cada carpeta para aforo documental, debe llevar la firma de las 3 personas que revisaran la carpeta, si falta algun documento, se debe completar antes de la presentacion a la Aduana | H19: jefe departamento tecnico | I19: 43981 | J19: permanente | K19: se llevara un resgistro de las carpetas que se fueron al aforo documental, para saber si existe alguna sancion o medida por parte de la Aduana. El encargado de la sucursal debe informar al gerente tecnico si esta todo bien, informar si aduana emitira alguna infracción. | L19: diario | M19: revisión de multas y amonestaciones de la aduana | N19: gerente departamento tecnico
A20: CM-07 | B20: =VLOOKUP(A20,'Matriz de Riesgos'!C:L,10,FALSE) -> 3 | C20: =VLOOKUP(B20,TABLA,2,FALSE) -> 1 | D20: 1) documentos deben ser enviados desde casa matriz en forma correcta y completa, deben ser revisados por ejecutivos y departamento tecnico | E20: 3 | F20: =C20/E20 -> 0.33333333 | G20: cada carpeta debe llevar la firma de las 2 personas que revisaron la carpeta, el funcionario de la susursal tambien debe revisar la carpeta antes de ir a zona primaria. | H20: jefe departamento tecnico | I20: 43981 | J20: permanente | K20: jefe de sucursal debe llevar un registro de las carpetas que llegan incompletas, para tomar las medidas con los ejecutivos y departamento tecnico, y de esta forma disminuir el riesgo de los atrasos en los retiros de la zona primaria. | L20: diario | M20: jefe de sucursal, debe informar a la alta gerencia, si continuan llegando documentos incompletos que puedan afectar el retiro en zona primaria, para tomar alguna otra medida | N20: jefe de sucursal
A21: CM-08 | B21: =VLOOKUP(A21,'Matriz de Riesgos'!C:L,10,FALSE) -> 12 | C21: =VLOOKUP(B21,TABLA,2,FALSE) -> 3 | D21: exigir al cliente que disponga de copias originales para utilizar ante pérdidas por fuerza mayor | E21: 3 | F21: =C21/E21 -> 1 | G21: enviar carta a clientes solicitado mantengan siempre segundos originales de los documentos base | H21: gerente comercial | I21: 20 de mayo | J21: permanente | K21: recepcion de acuso de recibo y aceptación de la carta | L21: trimestralmente | M21: en caso de ocurrencia del evento de perdida total o parcial, cliente entrega segundo original de inmediato. | N21: Gerencia
A22: CM-09 | B22: =VLOOKUP(A22,'Matriz de Riesgos'!C:L,10,FALSE) -> 15 | C22: =VLOOKUP(B22,TABLA,2,FALSE) -> 3 | D22: Antes del aforo físico se debe verificar que toda la documentación de la carpeta este en cumplimiento, según normativa aduanera | E22: 3 | F22: =C22/E22 -> 1 | G22: Departamento técnico revisa y valida el contenido de la carpeta cuando se silicita aforo. Si hay documentos faltantes, se gestiona la recuperación de lo faltante. | H22: Ejecutivo y técnico pedidor que generan el despacho. | I22: 20 de mayo | J22: permanente | K22: Revisión de la carpeta incluyendo documentos faltantes, por parte de jefe de sucursal que aplica al aforo. | L22: cuando se solicita aforo | M22: Aforo cumplido sin reparos por parte de la DNA | N22: Gerencia
A23: CM-09 | B23: =VLOOKUP(A23,'Matriz de Riesgos'!C:L,10,FALSE) -> 15 | C23: =VLOOKUP(B23,TABLA,2,FALSE) -> 3 | D23: Aplicar procedimiento operativo de la sucursal, según aplique a la aduana que solicita el aforo físico | E23: 3 | F23: =C23/E23 -> 1 | G23: Tramitador aduanero de la sucursal aplica procedimiento de Operaciones. | H23: Jefe de sucursal | I23: 20 de mayo | J23: permanente | K23: Resultado del aforo | L23: cuando se solicita aforo | M23: Aforo cumplido sin reparos por parte de la DNA | N23: Gerencia
A24: CM-10 | B24: =VLOOKUP(A24,'Matriz de Riesgos'!C:L,10,FALSE) -> 15 | C24: =VLOOKUP(B24,TABLA,2,FALSE) -> 3 | D24: Antes del aforo documental se debe verificar que toda la documentación de la carpeta este en cumplimiento, según normativa aduanera | E24: 3 | F24: =C24/E24 -> 1 | G24: Departamento técnico revisa y valida el contenido de la carpeta cuando se silicita aforo. Si hay documentos faltantes, se gestiona la recuperación de lo faltante. | H24: Ejecutivo y técnico pedidor que generan el despacho. | I24: 20 de mayo | J24: permanente | K24: Revisión de la carpeta incluyendo documentos faltantes, por parte de jefe de sucursal que aplica al aforo. | L24: cuandi se solicita aforo | M24: Aforo cumplido sin reparos por parte de la DNA | N24: Gerencia
A25: CM-11 | B25: =VLOOKUP(A25,'Matriz de Riesgos'!C:L,10,FALSE) -> 15 | C25: =VLOOKUP(B25,TABLA,2,FALSE) -> 3 | D25: Aplicar procedimiento operativo de la sucursal, según aplique a la aduana. | E25: 3 | F25: =C25/E25 -> 1 | G25: Tramitador aduanero de la sucursal aplica procedimiento de Operaciones. | H25: Jefe de sucursal | I25: 20 de mayo | J25: permanente | K25: V°B° de la DNA respecto a la carga. | L25: autorización de retiro/ingreso de carga por DNA | M25: Sin reparos por parte de la DNA | N25: Gerencia
A26: CM-12 | B26: =VLOOKUP(A26,'Matriz de Riesgos'!C:L,10,FALSE) -> 10 | C26: =VLOOKUP(B26,TABLA,2,FALSE) -> 3 | D26: Aplicar procedimiento operativo de la sucursal, según aplique a la aduana. | E26: 3 | F26: =C26/E26 -> 1 | G26: Tramitador aduanero de la sucursal aplica procedimiento de Operaciones. | H26: Jefe de sucursal | I26: 20 de mayo | J26: permanente | K26: V°B° de la DNA respecto a los sellos. | L26: autorización por DNA | M26: Sin reparos por parte de la DNA | N26: Gerencia
A27: CM-13 | B27: =VLOOKUP(A27,'Matriz de Riesgos'!C:L,10,FALSE) -> 12 | C27: =VLOOKUP(B27,TABLA,2,FALSE) -> 3 | D27: solicitar información, para los cursos actualizados con temas aduaneros y de comercio exterior. | E27: 1 | F27: =C27/E27 -> 3 | G27: revisar cursos actualizados y reconocidos por la aduana en temas aduaneros, para ofrecer a los diferentes deptos de la agencia | H27: jefa de RRHH | I27: 43981 | J27: permanente | K27: enviar mail con informacion de los diferentes cursos aduaneros y de comercio exterior | L27: mensualmente | M27: se llevara un registro de las personas que asistan a los cursos, para revisar el cumplimiento de termino | N27: jefa de RRHH
A28: CM-14 | B28: =VLOOKUP(A28,'Matriz de Riesgos'!C:L,10,FALSE) -> 12 | C28: =VLOOKUP(B28,TABLA,2,FALSE) -> 3 | D28: Controlar incobrables semanalmente | E28: 2 | F28: =C28/E28 -> 1.5 | G28: Reporte de recuperación de cuentas por cobrar | H28: Gerente Adm. | I28: en producción | J28: permanente | K28: Preparar un reporte compartivo entre un periodo y otro, analizar variables de recuperacion de flujo y variacion en ventas | L28: mensualmente | M28: - Revisión de los ratios de recuperacion de flujos. | N28: controller
A29: CM-14 | B29: =VLOOKUP(A29,'Matriz de Riesgos'!C:L,10,FALSE) -> 12 | C29: =VLOOKUP(B29,TABLA,2,FALSE) -> 3 | D29: Estado de cuentas corrientes clientes | E29: 2 | F29: =C29/E29 -> 1.5 | G29: Revisión periodica de status cuentas clientes. | H29: cobranza | I29: en producción | J29: permanente | K29: Seguimiento por cliente de mail enviados y respuesta. Bitacora de cobranza. | L29: mensualmente | M29: Revisión de datos abonos a cuentas de clientes contabilizados. Abono rebajados de cuentas. | N29: controller
A30: CM-15 | B30: =VLOOKUP(A30,'[1]Matriz de Riesgos'!C:L,10,FALSE) -> 12 | C30: =VLOOKUP(B30,TABLA,2,FALSE) -> 3 | D30: 1.- Bloqueo de la cuenta de usuario en todos los sistemas informáticos de la Agencia, incluyendo Active Directory, VPN, Correo electrónico y SIGAD. | E30: 1 | F30: =C30/E30 -> 3 | G30: 1.- En caso de desvinculación, encargada(o) de RRHH informará inmediatamente al encargado de informática y al encargado de seguridad de la información para efectuar el bloqueo de la cuenta de usuario. 2.- Encargado de informática bloqueará la cuenta de usuario del colaborador desvinculado en todos los sistemas. | H30: Encargado (a) de RRHH | J30: permanente | K30: Verificar que la cuenta de usuario del colaborador desvinculado se encuentre bloqueada en los sistemas. | L30: Cuando ocurra | M30: Correo electrónico informando al Gerente General el resultado de la revisión. | N30: Encargado de Seguridad de la Información.
A31: CM-15 | B31: =VLOOKUP(A31,'[1]Matriz de Riesgos'!C:L,10,FALSE) -> 12 | C31: =VLOOKUP(B31,TABLA,2,FALSE) -> 3 | D31: 2.- Eliminación de cuenta de usuario desvinculado. | E31: 1 | F31: =C31/E31 -> 3 | G31: 1.- Evaluar la oportunidad para eliminar de los sistemas la cuenta de usuario de colaborador desvinculado. 2.- Eliminar la cuenta de usuario de los sistemas. | H31: Encargado informática, encargado Seguridad Información, encargado de RRHH. | J31: permanente | K31: Verificar que la cuenta de usuario de un colaborador desvinculado, la cual se debe encontrar previamente bloqueada, sea eliminada de los sistemas luego de evaluada la factibilidad de eliminación. | L31: Cuando ocurra | M31: Correo electrónico informando al Gerente General el resultado de la revisión. | N31: Encargado de Seguridad de la Información.
A32: CM-16 | B32: =VLOOKUP(A32,'[1]Matriz de Riesgos'!C:L,10,FALSE) -> 8 | C32: =VLOOKUP(B32,TABLA,2,FALSE) -> 2 | D32: Efectuar respaldo de los correos electrónicos de los colaboradores, según lo estipula el Procedimiento de Control de Accesos. | E32: 1 | F32: =C32/E32 -> 2 | G32: Definir e implementar un esquema de respaldo de los archivos de correos electrónicos de todos los colaboradores. | H32: Encargado informática | J32: permanente | K32: Solicitar bajada de 3 archivos de respaldo de correos electrónicos, verificando que estos pueden ser leídos. | L32: mensualmente | M32: Correo electrónico informando al Gerente General el resultado de la revisión. | N32: Encargado de Seguridad de la Información.
A33: CM-17 | B33: =VLOOKUP(A33,'Matriz de Riesgos'!C:L,10,FALSE) -> 25 | C33: 3 | D33: Antes del aforo físico se debe verificar que toda la documentación de la carpeta este en cumplimiento, según normativa aduanera | E33: 3 | F33: =C33/E33 -> 1 | G33: Departamento técnico revisa y valida el contenido de la carpeta cuando se silicita aforo. Si hay documentos faltantes, se gestiona la recuperación de lo faltante. | H33: Ejecutivo y técnico pedidor que generan el despacho. | I33: en producción | J33: permanente | K33: Revisión de la carpeta incluyendo documentos faltantes, por parte de jefe de sucursal que aplica al aforo. | L33: cuando se solicita aforo | M33: Aforo cumplido sin reparos por parte de la DNA | N33: Gerencia
A34: CM-18 | B34: =VLOOKUP(A34,'Matriz de Riesgos'!C:L,10,FALSE) -> 15 | C34: =VLOOKUP(B34,TABLA,2,FALSE) -> 3 | D34: Autorevisión exhaustiva y prolija del tecnico y revisor, debe solicitar mayores antecedentes de ser necesario. | E34: 2 | F34: =C34/E34 -> 1.5 | G34: Autorevisión de DIN por cada pedidor. | H34: Pedidor | I34: en producción | J34: permanente | K34: Revisor de DIN | L34: mensualmente | M34: Formulario en borrador de la DIN | N34: Jefe de ejecutivos
A35: CM-19 | B35: =VLOOKUP(A35,'Matriz de Riesgos'!C:L,10,FALSE) -> 15 | C35: =VLOOKUP(B35,TABLA,2,FALSE) -> 3 | D35: 1) Ejecutivo no procesará despacho sin contar con el debido endoso. | E35: 2 | F35: =C35/E35 -> 1.5 | G35: No cursar el despacho al técnico. Carpeta no continua con el proceso habitual, técnico no procesa el despacho. | H35: Ejecutivo | I35: en producción | J35: permanente | K35: La persona operativa debe corroborar que este el endoso pertinente. | L35: mensualmente | M35: Se deja evidencia con check list en cada carpeta que el endoso existe. | N35: Pedidor
A36: CM-20 | B36: =VLOOKUP(A36,'Matriz de Riesgos'!C:L,10,FALSE) -> 15 | C36: =VLOOKUP(B36,TABLA,2,FALSE) -> 3 | D36: Revisión de documentación | E36: 2 | F36: =C36/E36 -> 1.5 | G36: Conciliar documentación y revision de los datos de consignacion de guias versus la información ingresada al sistema. | H36: Ejecutivo | I36: en producción | J36: permanente | K36: Verificar que los datos ingresados al sistema sean cohincides con lo documentos en papel. | L36: mensualmente | M36: check list de revisión de todos los los documentos de respaldo. | N36: Pedidor
A37: CM-21 | B37: =VLOOKUP(A37,'Matriz de Riesgos'!C:L,10,FALSE) -> 9 | C37: =VLOOKUP(B37,TABLA,2,FALSE) -> 2 | D37: 1) Informar la documentación pendiente del despacho de forma semanal. | E37: 2 | F37: =C37/E37 -> 1 | G37: Autorevisión de las DUS con legalizacion pendiente. | H37: Asistente de exportaciones | I37: en producción | J37: permanente | K37: Controller reporta al agente los desembolsos por EXPO cuyas DUS se encuentran pendientes de legalización. | L37: semanalmente | M37: A traves del sistema SIGA y reporte seguimiento por facturas pendientes de los despachos. | N37: Jeje de exportaciones
A38: CM-21 | B38: =VLOOKUP(A38,'Matriz de Riesgos'!C:L,10,FALSE) -> 9 | C38: =VLOOKUP(B38,TABLA,2,FALSE) -> 2 | D38: 2) Verificar si la Guia aeréa fue ingresada al sistemaEditrade. | E38: 3 | F38: =C38/E38 -> 0.66666667 | G38: Revisión semanal de los DUS en trámite. | H38: Asistente de exportaciones | I38: en producción | J38: permanente | K38: Manualmente revisa el documento versus informacion en Sistema aduana | L38: semanalmente | M38: Queda respaldo de un borrador en carpeta despacho | N38: Jeje de exportaciones
A39: CM-21 | B39: =VLOOKUP(A39,'Matriz de Riesgos'!C:L,10,FALSE) -> 9 | C39: =VLOOKUP(B39,TABLA,2,FALSE) -> 2 | D39: 3) Verificar los ingresos en zona primaria. | E39: 3 | F39: =C39/E39 -> 0.66666667 | G39: Clasificacion de los clientes por volumen de operaciones y por contrato y diferencia los estados en pendientes y los que estan en curso. | H39: Asistente de exportaciones | I39: en producción | J39: permanente | K39: Revisa en SIGA los estados que se van ingresando en estado ingreso zona primaria e ingreso de las prorrogas. | L39: semanalmente | M39: Respaldos fisicos de los ingresos a zona primaria. | N39: Jeje de exportaciones
A40: CM-21 | B40: =VLOOKUP(A40,'Matriz de Riesgos'!C:L,10,FALSE) -> 9 | C40: =VLOOKUP(B40,TABLA,2,FALSE) -> 2 | D40: Legalización o anulación de DUS. | E40: 3 | F40: =C40/E40 -> 0.66666667 | G40: Verificar plazo de 25 dias y contactar clientes para acordar embarque o anulacion, o cambio de fecha. | H40: Asistente de exportaciones | I40: en producción | J40: permanente | K40: Notificación de correos con acuso de recibo. | L40: semanalmente | M40: Mail en carpeta de respaldo. | N40: Jeje de exportaciones
...

Sheet Oportunidades
A1: Riesgo | B1: Descripción del Riesgo | C1: Agente(es) afectad(os) | D1: Oportunidad
A2: persona ajena a la empresa ingresa al interior de manera furtiva | B2: un acceso no controlado de personas puede generar daños a la infraestructura, o constituir un delito | C2: B-54 A-31 | D2: Adquirir camaras de alta calidad que pemitan visualizar de buena forma a personas que inrgresan a empresa. Adicionalmente, se reforzara control de acceso con reconocimiento facial
A3: Hackeo de sitios web y/o de los sistemas informáticos | B3: Externos acceden a los sistemas (redes, bases de datos, aplicaciones informáticas) | C3: B-54 A-31 | D3: Solicitar a proveedor de servicios informáticos cambio de claves de acceso, cada cierto tiempo, a fin evitar uso malicioso de sistemas
A4: personal técnico no tiene la competencia y genera errores | B4: multas por errores de confección de despachos | C4: B-54 A-31 | D4: Capacitar a personal para mejorar procesos
A5: VARIABILIDAD DEL TIPO DE CAMBIO | B5: TIPO DE CAMBIO A LA BAJA GENERA RIESGO DE INSOLVENCIA DEL NEGOCIO | C5: B-54 A-31 | D5: Fijar tipo de cambio minimo que asegure rentabilidad de empresa
A6: pérdida de documentos originales y/o carpetas completas | B6: falta de control y ordenamiento de carpetas generan extravios o perdidas. | C6: B-54 A-31 | D6: Reforzar carpetas electronicas, a fin que documentos quedes respaldados en nuestros sistemas

Sheet Mapa de riesgos
B2: MAPA DE EXPOSICIÓN DE RIESGOS (IER)
D3: nivel clasificación del riesgo (NCR)
B4: nivel de eficacia del control (NEC) | D4: tolerable (1) | E4: moderado (2) | F4: critico (3)
B5: Deficiente | C5: 1 | E5: CM-05,CM-16 | F5: CM-04;CM-06;CM-09
B6: Regular | C6: 2 | E6: CM-03;CM-21 | F6: CM-01,CM-01;CM-02;CM-14;CM-14;CM-18;CM-19;CM-20
B7: Efectivo | C7: 3 | D7: CM-07;CM-07 | E7: CM-21;CM-21;CM-21 | F7: CM-01;CM-02;CM-08;CM-15;CM-22
I13: =1/1 -> 1

Sheet Control de cambios
A1: CONTROL DE REVISIONES Y/O CAMBIOS
A2: FECHA | B2: ACCIÓN REALIZADA | C2: N° REVISIÓN | D2: REVISADO POR | E2: APROBADO POR
A3: 45006 | B3: Se incluye Articulo 168 O.A. y se revisan todos los riesgos identificados y planes de acción asociados. | C3: 1 | D3: Alvaro Fredes | E3: Francisco Pardo
